Package: tximeta Version: 1.25.2 Command: /home/rapidbuild/bbs-3.21-bioc-rapid/R/bin/R CMD build --keep-empty-dirs --no-resave-data tximeta StartedAt: 2025-02-04 13:37:27 -0500 (Tue, 04 Feb 2025) EndedAt: 2025-02-04 13:38:52 -0500 (Tue, 04 Feb 2025) EllapsedTime: 84.3 seconds RetCode: 0 Status: OK PackageFile: tximeta_1.25.2.tar.gz PackageFileSize: 1.332 MiB