Package: treeio Version: 1.31.0 Command: /home/rapidbuild/bbs-3.21-bioc-rapid/R/bin/R CMD build --keep-empty-dirs --no-resave-data treeio StartedAt: 2025-02-03 13:33:04 -0500 (Mon, 03 Feb 2025) EndedAt: 2025-02-03 13:33:11 -0500 (Mon, 03 Feb 2025) EllapsedTime: 7.0 seconds RetCode: 0 Status: OK PackageFile: treeio_1.31.0.tar.gz PackageFileSize: 678.7 KiB