Package: supraHex Version: 1.45.1 Command: /home/rapidbuild/bbs-3.21-bioc-rapid/R/bin/R CMD INSTALL supraHex StartedAt: 2025-02-03 12:13:02 -0500 (Mon, 03 Feb 2025) EndedAt: 2025-02-03 12:13:09 -0500 (Mon, 03 Feb 2025) EllapsedTime: 6.2 seconds RetCode: 0 Status: OK