Package: snifter Version: 1.17.0 Command: /home/rapidbuild/bbs-3.21-bioc-rapid/R/bin/R CMD INSTALL snifter StartedAt: 2025-02-10 06:14:53 -0500 (Mon, 10 Feb 2025) EndedAt: 2025-02-10 06:14:58 -0500 (Mon, 10 Feb 2025) EllapsedTime: 5.2 seconds RetCode: 0 Status: OK