Package: snifter Version: 1.17.0 Command: /home/rapidbuild/bbs-3.21-bioc-rapid/R/bin/R CMD build --keep-empty-dirs --no-resave-data snifter StartedAt: 2025-02-10 07:42:13 -0500 (Mon, 10 Feb 2025) EndedAt: 2025-02-10 07:42:42 -0500 (Mon, 10 Feb 2025) EllapsedTime: 29.6 seconds RetCode: 0 Status: OK PackageFile: snifter_1.17.0.tar.gz PackageFileSize: 716.4 KiB