Package: pwalign Version: 1.3.2 Command: /home/rapidbuild/bbs-3.21-bioc-rapid/R/bin/R CMD INSTALL pwalign StartedAt: 2025-02-09 06:18:43 -0500 (Sun, 09 Feb 2025) EndedAt: 2025-02-09 06:18:55 -0500 (Sun, 09 Feb 2025) EllapsedTime: 12.2 seconds RetCode: 0 Status: OK