Package: pwalign Version: 1.3.2 Command: /home/rapidbuild/bbs-3.21-bioc-rapid/R/bin/R CMD check --install=check:pwalign.install-out.txt --library=/home/rapidbuild/bbs-3.21-bioc-rapid/R/site-library --timings pwalign_1.3.2.tar.gz StartedAt: 2025-02-03 14:55:51 -0500 (Mon, 03 Feb 2025) EndedAt: 2025-02-03 14:57:39 -0500 (Mon, 03 Feb 2025) EllapsedTime: 108.0 seconds RetCode: 0 Status: OK CheckDir: pwalign.Rcheck Warnings: 0