Package: pwalign Version: 1.3.2 Command: /home/rapidbuild/bbs-3.21-bioc-rapid/R/bin/R CMD build --keep-empty-dirs --no-resave-data pwalign StartedAt: 2025-02-09 07:24:33 -0500 (Sun, 09 Feb 2025) EndedAt: 2025-02-09 07:25:25 -0500 (Sun, 09 Feb 2025) EllapsedTime: 52.0 seconds RetCode: 0 Status: OK PackageFile: pwalign_1.3.2.tar.gz PackageFileSize: 346.6 KiB