Package: ncdfFlow Version: 2.53.1 Command: /home/rapidbuild/bbs-3.21-bioc-rapid/R/bin/R CMD INSTALL ncdfFlow StartedAt: 2025-02-05 06:13:01 -0500 (Wed, 05 Feb 2025) EndedAt: 2025-02-05 06:13:14 -0500 (Wed, 05 Feb 2025) EllapsedTime: 12.8 seconds RetCode: 0 Status: OK