Package: mzID Version: 1.45.0 Command: /home/rapidbuild/bbs-3.21-bioc-rapid/R/bin/R CMD build --keep-empty-dirs --no-resave-data mzID StartedAt: 2025-02-04 13:12:22 -0500 (Tue, 04 Feb 2025) EndedAt: 2025-02-04 13:12:29 -0500 (Tue, 04 Feb 2025) EllapsedTime: 7.0 seconds RetCode: 0 Status: OK PackageFile: mzID_1.45.0.tar.gz PackageFileSize: 582.2 KiB