Package: multtest Version: 2.63.0 Command: /home/rapidbuild/bbs-3.21-bioc-rapid/R/bin/R CMD check --install=check:multtest.install-out.txt --library=/home/rapidbuild/bbs-3.21-bioc-rapid/R/site-library --timings multtest_2.63.0.tar.gz StartedAt: 2025-02-09 09:16:46 -0500 (Sun, 09 Feb 2025) EndedAt: 2025-02-09 09:17:34 -0500 (Sun, 09 Feb 2025) EllapsedTime: 48.2 seconds RetCode: 0 Status: WARNINGS CheckDir: multtest.Rcheck Warnings: 3