Package: microRNA Version: 1.65.0 Command: /home/rapidbuild/bbs-3.21-bioc-rapid/R/bin/R CMD check --install=check:microRNA.install-out.txt --library=/home/rapidbuild/bbs-3.21-bioc-rapid/R/site-library --timings microRNA_1.65.0.tar.gz StartedAt: 2025-02-04 14:51:07 -0500 (Tue, 04 Feb 2025) EndedAt: 2025-02-04 14:51:10 -0500 (Tue, 04 Feb 2025) EllapsedTime: 3.0 seconds RetCode: 1 Status: ERROR CheckDir: microRNA.Rcheck Warnings: NA