Package: gypsum Version: 1.3.0 Command: /home/rapidbuild/bbs-3.21-bioc-rapid/R/bin/R CMD build --keep-empty-dirs --no-resave-data gypsum StartedAt: 2025-02-04 12:59:17 -0500 (Tue, 04 Feb 2025) EndedAt: 2025-02-04 12:59:24 -0500 (Tue, 04 Feb 2025) EllapsedTime: 7.0 seconds RetCode: 0 Status: OK PackageFile: gypsum_1.3.0.tar.gz PackageFileSize: 274.6 KiB