Package: graph Version: 1.85.1 Command: /home/rapidbuild/bbs-3.21-bioc-rapid/R/bin/R CMD check --install=check:graph.install-out.txt --library=/home/rapidbuild/bbs-3.21-bioc-rapid/R/site-library --timings graph_1.85.1.tar.gz StartedAt: 2025-02-04 14:38:16 -0500 (Tue, 04 Feb 2025) EndedAt: 2025-02-04 14:39:05 -0500 (Tue, 04 Feb 2025) EllapsedTime: 48.6 seconds RetCode: 1 Status: ERROR CheckDir: graph.Rcheck Warnings: NA