Package: graph Version: 1.85.1 Command: /home/rapidbuild/bbs-3.21-bioc-rapid/R/bin/R CMD build --keep-empty-dirs --no-resave-data graph StartedAt: 2025-02-04 12:56:18 -0500 (Tue, 04 Feb 2025) EndedAt: 2025-02-04 12:56:40 -0500 (Tue, 04 Feb 2025) EllapsedTime: 22.0 seconds RetCode: 0 Status: OK PackageFile: graph_1.85.1.tar.gz PackageFileSize: 1.429 MiB