Package: glmGamPoi Version: 1.19.2 Command: /home/rapidbuild/bbs-3.21-bioc-rapid/R/bin/R CMD INSTALL glmGamPoi StartedAt: 2025-02-03 12:17:06 -0500 (Mon, 03 Feb 2025) EndedAt: 2025-02-03 12:17:55 -0500 (Mon, 03 Feb 2025) EllapsedTime: 48.8 seconds RetCode: 0 Status: OK