Package: glmGamPoi Version: 1.19.2 Command: /home/rapidbuild/bbs-3.21-bioc-rapid/R/bin/R CMD check --install=check:glmGamPoi.install-out.txt --library=/home/rapidbuild/bbs-3.21-bioc-rapid/R/site-library --timings glmGamPoi_1.19.2.tar.gz StartedAt: 2025-02-03 14:30:45 -0500 (Mon, 03 Feb 2025) EndedAt: 2025-02-03 14:37:43 -0500 (Mon, 03 Feb 2025) EllapsedTime: 417.9 seconds RetCode: 1 Status: ERROR CheckDir: glmGamPoi.Rcheck Warnings: NA