Package: gcrma Version: 2.79.0 Command: /home/rapidbuild/bbs-3.21-bioc-rapid/R/bin/R CMD INSTALL gcrma StartedAt: 2025-02-04 12:25:12 -0500 (Tue, 04 Feb 2025) EndedAt: 2025-02-04 12:25:21 -0500 (Tue, 04 Feb 2025) EllapsedTime: 9.2 seconds RetCode: 0 Status: OK