Package: gcrma Version: 2.79.0 Command: /home/rapidbuild/bbs-3.21-bioc-rapid/R/bin/R CMD build --keep-empty-dirs --no-resave-data gcrma StartedAt: 2025-02-04 12:51:46 -0500 (Tue, 04 Feb 2025) EndedAt: 2025-02-04 12:51:59 -0500 (Tue, 04 Feb 2025) EllapsedTime: 13.3 seconds RetCode: 0 Status: OK PackageFile: gcrma_2.79.0.tar.gz PackageFileSize: 288.8 KiB