Package: gage Version: 2.57.0 Command: /home/rapidbuild/bbs-3.21-bioc-rapid/R/bin/R CMD build --keep-empty-dirs --no-resave-data gage StartedAt: 2025-02-03 12:49:26 -0500 (Mon, 03 Feb 2025) EndedAt: 2025-02-03 12:51:15 -0500 (Mon, 03 Feb 2025) EllapsedTime: 108.9 seconds RetCode: 0 Status: OK PackageFile: gage_2.57.0.tar.gz PackageFileSize: 4.331 MiB