Package: flowViz Version: 1.71.0 Command: /home/rapidbuild/bbs-3.21-bioc-rapid/R/bin/R CMD check --install=check:flowViz.install-out.txt --library=/home/rapidbuild/bbs-3.21-bioc-rapid/R/site-library --timings flowViz_1.71.0.tar.gz StartedAt: 2025-02-04 14:25:24 -0500 (Tue, 04 Feb 2025) EndedAt: 2025-02-04 14:27:34 -0500 (Tue, 04 Feb 2025) EllapsedTime: 130.3 seconds RetCode: 0 Status: OK CheckDir: flowViz.Rcheck Warnings: 0