Package: dir.expiry Version: 1.15.0 Command: /home/rapidbuild/bbs-3.21-bioc-rapid/R/bin/R CMD INSTALL dir.expiry StartedAt: 2025-02-04 12:05:59 -0500 (Tue, 04 Feb 2025) EndedAt: 2025-02-04 12:06:01 -0500 (Tue, 04 Feb 2025) EllapsedTime: 1.3 seconds RetCode: 0 Status: OK