Package: dir.expiry Version: 1.15.0 Command: /home/rapidbuild/bbs-3.21-bioc-rapid/R/bin/R CMD build --keep-empty-dirs --no-resave-data dir.expiry StartedAt: 2025-02-04 12:42:01 -0500 (Tue, 04 Feb 2025) EndedAt: 2025-02-04 12:42:05 -0500 (Tue, 04 Feb 2025) EllapsedTime: 4.0 seconds RetCode: 0 Status: OK PackageFile: dir.expiry_1.15.0.tar.gz PackageFileSize: 301.3 KiB