Package: clusterProfiler Version: 4.15.1 Command: /home/rapidbuild/bbs-3.21-bioc-rapid/R/bin/R CMD INSTALL clusterProfiler StartedAt: 2025-02-06 06:29:12 -0500 (Thu, 06 Feb 2025) EndedAt: 2025-02-06 06:29:33 -0500 (Thu, 06 Feb 2025) EllapsedTime: 21.2 seconds RetCode: 0 Status: OK