Back to Rapid builds (Linux only) of a subset of BioC 3.21
Report updated every 6 hours

This page was generated on 2025-02-03 15:43 -0500 (Mon, 03 Feb 2025).

HostnameOSArch (*)R versionInstalled pkgs
teran2Linux (Ubuntu 24.04.1 LTS)x86_64R Under development (unstable) (2025-01-20 r87609) -- "Unsuffered Consequences" 868
Click on any hostname to see more info about the system (e.g. compilers)      (*) as reported by 'uname -p', except on Windows and Mac OS X

All results for package biocthis


To the developers/maintainers of the biocthis package:
- Use the following Renviron settings to reproduce errors and warnings.
- If 'R CMD check' started to fail recently on the Linux builder(s) over a missing dependency, add the missing dependency to 'Suggests:' in your DESCRIPTION file. See Renviron.bioc for more information.

raw results

Package 36/217HostnameOS / ArchINSTALLBUILDCHECK
biocthis 1.17.0  (landing page)
Leonardo Collado-Torres
Snapshot Date: 2025-02-03 12:00 -0500 (Mon, 03 Feb 2025)
git_url: https://git.bioconductor.org/packages/biocthis
git_branch: devel
git_last_commit: 6ac0f68
git_last_commit_date: 2024-12-10 16:36:03 -0500 (Tue, 10 Dec 2024)
teran2Linux (Ubuntu 24.04.1 LTS) / x86_64  OK    OK    OK