Package: beachmat Version: 2.23.6 Command: /home/rapidbuild/bbs-3.21-bioc-rapid/R/bin/R CMD check --install=check:beachmat.install-out.txt --library=/home/rapidbuild/bbs-3.21-bioc-rapid/R/site-library --timings beachmat_2.23.6.tar.gz StartedAt: 2025-02-04 13:51:36 -0500 (Tue, 04 Feb 2025) EndedAt: 2025-02-04 13:55:53 -0500 (Tue, 04 Feb 2025) EllapsedTime: 256.9 seconds RetCode: 0 Status: WARNINGS CheckDir: beachmat.Rcheck Warnings: 1