Package: assorthead Version: 1.1.13 Command: /home/rapidbuild/bbs-3.21-bioc-rapid/R/bin/R CMD INSTALL assorthead StartedAt: 2025-02-09 06:04:05 -0500 (Sun, 09 Feb 2025) EndedAt: 2025-02-09 06:04:06 -0500 (Sun, 09 Feb 2025) EllapsedTime: 1.6 seconds RetCode: 0 Status: OK