Package: assorthead Version: 1.1.13 Command: /home/rapidbuild/bbs-3.21-bioc-rapid/R/bin/R CMD check --install=check:assorthead.install-out.txt --library=/home/rapidbuild/bbs-3.21-bioc-rapid/R/site-library --timings assorthead_1.1.13.tar.gz StartedAt: 2025-02-09 08:03:11 -0500 (Sun, 09 Feb 2025) EndedAt: 2025-02-09 08:03:20 -0500 (Sun, 09 Feb 2025) EllapsedTime: 9.0 seconds RetCode: 0 Status: OK CheckDir: assorthead.Rcheck Warnings: 0