Package: apeglm Version: 1.29.0 Command: /home/rapidbuild/bbs-3.21-bioc-rapid/R/bin/R CMD build --keep-empty-dirs --no-resave-data apeglm StartedAt: 2025-02-04 12:30:19 -0500 (Tue, 04 Feb 2025) EndedAt: 2025-02-04 12:31:42 -0500 (Tue, 04 Feb 2025) EllapsedTime: 83.8 seconds RetCode: 0 Status: OK PackageFile: apeglm_1.29.0.tar.gz PackageFileSize: 1.203 MiB