Package: alabaster.matrix Version: 1.7.6 Command: /home/rapidbuild/bbs-3.21-bioc-rapid/R/bin/R CMD build --keep-empty-dirs --no-resave-data alabaster.matrix StartedAt: 2025-02-09 06:28:03 -0500 (Sun, 09 Feb 2025) EndedAt: 2025-02-09 06:29:00 -0500 (Sun, 09 Feb 2025) EllapsedTime: 56.3 seconds RetCode: 0 Status: OK PackageFile: alabaster.matrix_1.7.6.tar.gz PackageFileSize: 273.6 KiB