Package: affyPLM Version: 1.83.3 Command: /home/rapidbuild/bbs-3.21-bioc-rapid/R/bin/R CMD INSTALL affyPLM StartedAt: 2025-02-03 12:24:37 -0500 (Mon, 03 Feb 2025) EndedAt: 2025-02-03 12:24:52 -0500 (Mon, 03 Feb 2025) EllapsedTime: 15.2 seconds RetCode: 0 Status: OK