Package: affyPLM Version: 1.83.3 Command: /home/rapidbuild/bbs-3.21-bioc-rapid/R/bin/R CMD build --keep-empty-dirs --no-resave-data affyPLM StartedAt: 2025-02-09 06:28:01 -0500 (Sun, 09 Feb 2025) EndedAt: 2025-02-09 06:29:24 -0500 (Sun, 09 Feb 2025) EllapsedTime: 83.5 seconds RetCode: 0 Status: OK PackageFile: affyPLM_1.83.3.tar.gz PackageFileSize: 7.158 MiB