Package: XVector Version: 0.47.2 Maintainer: Hervé Pagès MaintainerEmail: hpages.on.github at gmail.com git_url: https://git.bioconductor.org/packages/XVector git_branch: devel git_last_commit: 9f44218 git_last_commit_date: 2025-01-07 13:39:47 -0500 (Tue, 07 Jan 2025)