Package: Wrench Version: 1.25.0 Command: /home/rapidbuild/bbs-3.21-bioc-rapid/R/bin/R CMD INSTALL Wrench StartedAt: 2025-02-09 06:07:43 -0500 (Sun, 09 Feb 2025) EndedAt: 2025-02-09 06:07:45 -0500 (Sun, 09 Feb 2025) EllapsedTime: 2.0 seconds RetCode: 0 Status: OK