Package: Wrench Version: 1.25.0 Command: /home/rapidbuild/bbs-3.21-bioc-rapid/R/bin/R CMD build --keep-empty-dirs --no-resave-data Wrench StartedAt: 2025-02-09 07:50:28 -0500 (Sun, 09 Feb 2025) EndedAt: 2025-02-09 07:51:31 -0500 (Sun, 09 Feb 2025) EllapsedTime: 63.3 seconds RetCode: 0 Status: OK PackageFile: Wrench_1.25.0.tar.gz PackageFileSize: 224.9 KiB