Package: TCGAbiolinks Version: 2.35.2 Command: /home/rapidbuild/bbs-3.21-bioc-rapid/R/bin/R CMD check --install=check:TCGAbiolinks.install-out.txt --library=/home/rapidbuild/bbs-3.21-bioc-rapid/R/site-library --timings TCGAbiolinks_2.35.2.tar.gz StartedAt: 2025-02-09 09:49:02 -0500 (Sun, 09 Feb 2025) EndedAt: 2025-02-09 10:02:45 -0500 (Sun, 09 Feb 2025) EllapsedTime: 823.4 seconds RetCode: 0 Status: WARNINGS CheckDir: TCGAbiolinks.Rcheck Warnings: 2