Package: SparseArray Version: 1.7.5 Command: /home/rapidbuild/bbs-3.21-bioc-rapid/R/bin/R CMD build --keep-empty-dirs --no-resave-data SparseArray StartedAt: 2025-02-04 13:35:21 -0500 (Tue, 04 Feb 2025) EndedAt: 2025-02-04 13:36:05 -0500 (Tue, 04 Feb 2025) EllapsedTime: 44.9 seconds RetCode: 0 Status: OK PackageFile: SparseArray_1.7.5.tar.gz PackageFileSize: 455.2 KiB