Package: Rgraphviz Version: 2.51.0 Command: /home/rapidbuild/bbs-3.21-bioc-rapid/R/bin/R CMD INSTALL Rgraphviz StartedAt: 2025-02-03 12:10:19 -0500 (Mon, 03 Feb 2025) EndedAt: 2025-02-03 12:11:50 -0500 (Mon, 03 Feb 2025) EllapsedTime: 90.4 seconds RetCode: 0 Status: OK