Package: Rdisop Version: 1.67.5 Command: /home/rapidbuild/bbs-3.21-bioc-rapid/R/bin/R CMD check --install=check:Rdisop.install-out.txt --library=/home/rapidbuild/bbs-3.21-bioc-rapid/R/site-library --timings Rdisop_1.67.5.tar.gz StartedAt: 2025-02-04 15:05:23 -0500 (Tue, 04 Feb 2025) EndedAt: 2025-02-04 15:05:41 -0500 (Tue, 04 Feb 2025) EllapsedTime: 17.9 seconds RetCode: 0 Status: WARNINGS CheckDir: Rdisop.Rcheck Warnings: 1