Package: Rdisop Version: 1.67.5 Command: /home/rapidbuild/bbs-3.21-bioc-rapid/R/bin/R CMD build --keep-empty-dirs --no-resave-data Rdisop StartedAt: 2025-02-04 13:19:55 -0500 (Tue, 04 Feb 2025) EndedAt: 2025-02-04 13:20:27 -0500 (Tue, 04 Feb 2025) EllapsedTime: 31.3 seconds RetCode: 0 Status: OK PackageFile: Rdisop_1.67.5.tar.gz PackageFileSize: 712.9 KiB