Package: OrganismDbi Version: 1.49.0 Command: /home/rapidbuild/bbs-3.21-bioc-rapid/R/bin/R CMD check --install=check:OrganismDbi.install-out.txt --library=/home/rapidbuild/bbs-3.21-bioc-rapid/R/site-library --timings OrganismDbi_1.49.0.tar.gz StartedAt: 2025-02-04 14:57:14 -0500 (Tue, 04 Feb 2025) EndedAt: 2025-02-04 15:05:03 -0500 (Tue, 04 Feb 2025) EllapsedTime: 468.9 seconds RetCode: 0 Status: OK CheckDir: OrganismDbi.Rcheck Warnings: 0