Package: MsBackendSql Version: 1.7.3 Command: /home/rapidbuild/bbs-3.21-bioc-rapid/R/bin/R CMD INSTALL MsBackendSql StartedAt: 2025-02-09 06:14:48 -0500 (Sun, 09 Feb 2025) EndedAt: 2025-02-09 06:14:59 -0500 (Sun, 09 Feb 2025) EllapsedTime: 11.0 seconds RetCode: 0 Status: OK