Package: MLInterfaces Version: 1.87.0 Command: /home/rapidbuild/bbs-3.21-bioc-rapid/R/bin/R CMD INSTALL MLInterfaces StartedAt: 2025-02-10 06:24:42 -0500 (Mon, 10 Feb 2025) EndedAt: 2025-02-10 06:25:08 -0500 (Mon, 10 Feb 2025) EllapsedTime: 26.5 seconds RetCode: 0 Status: OK