Package: MLInterfaces Version: 1.87.0 Command: /home/rapidbuild/bbs-3.21-bioc-rapid/R/bin/R CMD build --keep-empty-dirs --no-resave-data MLInterfaces StartedAt: 2025-02-10 07:15:13 -0500 (Mon, 10 Feb 2025) EndedAt: 2025-02-10 07:16:17 -0500 (Mon, 10 Feb 2025) EllapsedTime: 63.6 seconds RetCode: 0 Status: OK PackageFile: MLInterfaces_1.87.0.tar.gz PackageFileSize: 2.799 MiB