Package: GenomeInfoDb Version: 1.43.4 Command: /home/rapidbuild/bbs-3.21-bioc-rapid/R/bin/R CMD INSTALL GenomeInfoDb StartedAt: 2025-02-04 12:16:06 -0500 (Tue, 04 Feb 2025) EndedAt: 2025-02-04 12:16:16 -0500 (Tue, 04 Feb 2025) EllapsedTime: 9.6 seconds RetCode: 0 Status: OK