Package: ExperimentHubData Version: 1.33.0 Command: /home/rapidbuild/bbs-3.21-bioc-rapid/R/bin/R CMD INSTALL ExperimentHubData StartedAt: 2025-02-04 12:25:18 -0500 (Tue, 04 Feb 2025) EndedAt: 2025-02-04 12:25:53 -0500 (Tue, 04 Feb 2025) EllapsedTime: 35.2 seconds RetCode: 0 Status: OK