Package: DynDoc Version: 1.85.0 Command: /home/rapidbuild/bbs-3.21-bioc-rapid/R/bin/R CMD INSTALL DynDoc StartedAt: 2025-02-04 12:06:11 -0500 (Tue, 04 Feb 2025) EndedAt: 2025-02-04 12:06:13 -0500 (Tue, 04 Feb 2025) EllapsedTime: 2.0 seconds RetCode: 0 Status: OK