Package: DynDoc Version: 1.85.0 Command: /home/rapidbuild/bbs-3.21-bioc-rapid/R/bin/R CMD check --install=check:DynDoc.install-out.txt --library=/home/rapidbuild/bbs-3.21-bioc-rapid/R/site-library --timings DynDoc_1.85.0.tar.gz StartedAt: 2025-02-09 08:26:38 -0500 (Sun, 09 Feb 2025) EndedAt: 2025-02-09 08:26:50 -0500 (Sun, 09 Feb 2025) EllapsedTime: 12.0 seconds RetCode: 0 Status: WARNINGS CheckDir: DynDoc.Rcheck Warnings: 1