Package: DelayedMatrixStats Version: 1.29.1 Command: /home/rapidbuild/bbs-3.21-bioc-rapid/R/bin/R CMD check --install=check:DelayedMatrixStats.install-out.txt --library=/home/rapidbuild/bbs-3.21-bioc-rapid/R/site-library --timings DelayedMatrixStats_1.29.1.tar.gz StartedAt: 2025-02-03 14:02:52 -0500 (Mon, 03 Feb 2025) EndedAt: 2025-02-03 14:08:15 -0500 (Mon, 03 Feb 2025) EllapsedTime: 323.2 seconds RetCode: 1 Status: ERROR CheckDir: DelayedMatrixStats.Rcheck Warnings: NA