Package: DelayedMatrixStats Version: 1.29.1 Command: /home/rapidbuild/bbs-3.21-bioc-rapid/R/bin/R CMD build --keep-empty-dirs --no-resave-data DelayedMatrixStats StartedAt: 2025-02-03 12:38:42 -0500 (Mon, 03 Feb 2025) EndedAt: 2025-02-03 12:42:04 -0500 (Mon, 03 Feb 2025) EllapsedTime: 201.7 seconds RetCode: 0 Status: OK PackageFile: DelayedMatrixStats_1.29.1.tar.gz PackageFileSize: 264.4 KiB